BEGIN:VCALENDAR
VERSION:2.0
PRODID:-//ChamberMaster//Event Calendar 2.0//EN
METHOD:PUBLISH
X-PUBLISHED-TTL:P1H
REFRESH-INTERVAL:P1H
CALSCALE:GREGORIAN
BEGIN:VTIMEZONE
TZID:America/Chicago
BEGIN:DAYLIGHT
RRULE:FREQ=YEARLY;BYMONTH=3;BYDAY=2SU
DTSTART:20070101T000000
TZOFFSETFROM:-0600
TZOFFSETTO:-0500
TZNAME:Central Daylight Time
END:DAYLIGHT
BEGIN:STANDARD
RRULE:FREQ=YEARLY;BYMONTH=11;BYDAY=1SU
DTSTART:20070101T000000
TZOFFSETFROM:-0500
TZOFFSETTO:-0600
TZNAME:Central Standard Time
END:STANDARD
END:VTIMEZONE
BEGIN:VEVENT
DTSTART;TZID=America/Chicago:20240826T090000
DTEND;TZID=America/Chicago:20240826T150000
X-MICROSOFT-CDO-ALLDAYEVENT:FALSE
SUMMARY:2024 Belvidere Area Chamber of Commerce Golf Play Day
DESCRIPTION:Unfortunately\, Timber Pointe Golf Club is flooded today and our golf outing must be postponed for another time. \nWe appreciate your patience and will let you know when we have rescheduled details. Fore! Get ready for a day of swings and camaraderie at the Belvidere Area Chamber of Commerce Golf Play Day on July 15th. We regularly hear that this is one of the best business golf outings in the area because the networking at this outing is phenomenal! One of our most fun events of the year is our Annual Golf Outing. Even if you aren't a golfer\, this is a day you don't want to miss. Registration\, networking\, and warm breakfast at 8:00am. Shotgun start at 9:00am. Lunch available from 11:30-1:00pm. Activity Hole Sponsor with Alcohol $250 Your sponsorship will provide a sign at the sponsored hole and will allow you to offer games or small trinkets to golfers at each hole and provide alcohol to the golfers. Alcohol must be purchased through the Chamber. Activity Hole Sponsor $200 Your sponsorship will provide a sign at the sponsored hole and will allow you to offer games or small trinkets to golfers at each hole. Sign Only Hole Sponsor $150 Your sponsorship will provide a sign at the sponsored hole. Foursome $500 Individual $125
X-ALT-DESC;FMTTYPE=text/html:<!DOCTYPE html><html><head><title></title></head><body aria-disabled="false" spellcheck="false"><p>Unfortunately\, Timber Pointe Golf Club is flooded today and our golf outing must be postponed for another time.&nbsp\;</p><div><br></div><div>We appreciate your patience and will let you know when we have rescheduled details.&nbsp\;</div><p>Fore! Get ready for a day of swings and camaraderie at the Belvidere Area Chamber of Commerce Golf Play Day on July 15th. We regularly hear that this is one of the best business golf outings in the area because the networking at this outing is phenomenal! One of our most fun events of the year is our Annual Golf Outing. Even if you aren&#39\;t a golfer\, this is a day you don&#39\;t want to miss. Registration\, networking\, and warm breakfast at 8:00am. Shotgun start at 9:00am. Lunch available from 11:30-1:00pm. Activity Hole Sponsor with Alcohol $250 Your sponsorship will provide a sign at the sponsored hole and will allow you to offer games or small trinkets to golfers at each hole and provide alcohol to the golfers. Alcohol must be purchased through the Chamber. Activity Hole Sponsor $200 Your sponsorship will provide a sign at the sponsored hole and will allow you to offer games or small trinkets to golfers at each hole. Sign Only Hole Sponsor $150 Your sponsorship will provide a sign at the sponsored hole. Foursome $500 Individual $125</p></body></html>
LOCATION:5750 Woodstock Road Poplar Grove IL 61065
UID:e.3429.925350
SEQUENCE:3
DTSTAMP:20260425T192457Z
URL:https://business.belviderechamber.com/eventcalendar/Details/2024-belvidere-area-chamber-of-commerce-golf-play-day-1050457?sourceTypeId=Hub
END:VEVENT
END:VCALENDAR
