BEGIN:VCALENDAR
VERSION:2.0
PRODID:-//ChamberMaster//Event Calendar 2.0//EN
METHOD:PUBLISH
X-PUBLISHED-TTL:P1H
REFRESH-INTERVAL:P1H
CALSCALE:GREGORIAN
BEGIN:VTIMEZONE
TZID:America/Chicago
BEGIN:DAYLIGHT
RRULE:FREQ=YEARLY;BYMONTH=3;BYDAY=2SU
DTSTART:20070101T000000
TZOFFSETFROM:-0600
TZOFFSETTO:-0500
TZNAME:Central Daylight Time
END:DAYLIGHT
BEGIN:STANDARD
RRULE:FREQ=YEARLY;BYMONTH=11;BYDAY=1SU
DTSTART:20070101T000000
TZOFFSETFROM:-0500
TZOFFSETTO:-0600
TZNAME:Central Standard Time
END:STANDARD
END:VTIMEZONE
BEGIN:VEVENT
DTSTART;VALUE=DATE:20260501
DTEND;VALUE=DATE:20260502
TRANSP:TRANSPARENT
X-MICROSOFT-CDO-ALLDAYEVENT:TRUE
SUMMARY:Blain's Fest 2026
DESCRIPTION:Blain's Farm & Fleet is hosting Blain's Fest 2026\, a three-day in-store event celebrating the start of the outdoor season with deals\, giveaways\, and activities for all ages.Event Highlights:More than $100\,000 in prizes\, including outdoor-themed sweepstakesDaily giveaways for the first 100 guests (while supplies last)Friday: Play & Win digital games through the Blain's Rewards appSaturday & Sunday: "Be An Original" photo booth with a chance to win a $500 gift cardSaturday: Kids Workshop   Paint a Stepping Stone (registration required)Sunday: Kids Workshop   Mini-Bucket Makeover (registration required)Seasonal deals and in-store promotions across outdoor and backyard categoriesBlain's Fest offers a weekend of savings\, interactive experiences\, and family-friendly activities to kick off the spring season.
X-ALT-DESC;FMTTYPE=text/html:<!DOCTYPE html><html><head><title></title></head><body aria-disabled="false"><p data-end="314" data-start="139">Blain&rsquo\;s Farm &amp\; Fleet is hosting Blain&rsquo\;s Fest 2026\, a three-day in-store event celebrating the start of the outdoor season with deals\, giveaways\, and activities for all ages.</p><p data-end="339" data-start="316"><strong data-end="337" data-start="316" fr-original-style="" style="font-weight: 700\;">Event Highlights:</strong></p><ul data-end="868" data-start="340" fr-original-style="" style="list-style-position: inside\;"><li data-end="410" data-start="340">More than $100\,000 in prizes\, including outdoor-themed sweepstakes</li><li data-end="477" data-start="411">Daily giveaways for the first 100 guests (while supplies last)</li><li data-end="546" data-start="478">Friday: Play &amp\; Win digital games through the Blain&rsquo\;s Rewards app</li><li data-end="636" data-start="547">Saturday &amp\; Sunday: &ldquo\;Be An Original&rdquo\; photo booth with a chance to win a $500 gift card</li><li data-end="713" data-start="637">Saturday: Kids Workshop &ndash\; Paint a Stepping Stone (<a fr-original-style="" href="https://www.farmandfleet.com/blog/stepping-stone/" style="user-select: auto\;" text="_blank">registration required</a>)</li><li data-end="786" data-start="714">Sunday: Kids Workshop &ndash\; Mini-Bucket Makeover (<a fr-original-style="" href="https://www.farmandfleet.com/blog/mini-bucket/" style="user-select: auto\;" text="_blank">registration required</a>)</li><li data-end="868" data-start="787">Seasonal deals and in-store promotions across outdoor and backyard categories</li></ul><p data-end="998" data-is-last-node="" data-is-only-node="" data-start="870">Blain&rsquo\;s Fest offers a weekend of savings\, interactive experiences\, and family-friendly activities to kick off the spring season.</p></body></html>
LOCATION:
UID:e.3429.1450149
SEQUENCE:3
DTSTAMP:20260425T130352Z
URL:https://business.belviderechamber.com/eventcalendar/Details/blain-s-fest-2026-1717729?sourceTypeId=Hub
END:VEVENT
END:VCALENDAR
